  BEGIN:VCALENDAR
VERSION:2.0
PRODID:-//hacksw/handcal//NONSGML v1.0//EN
CALSCALE:GREGORIAN
BEGIN:VEVENT
DESCRIPTION:Ga als dorpskerk op zoek naar sporen van God in het dorp. Zodat de kerk niet alleen in het dorp staat\, maar ook van het gehele dorp is.
DTSTART:20260618T180000Z
SUMMARY:Online proeverij &#039;Sporen van God in het dorp&#039;
LOCATION:Online
URL;VALUE=URI:https://protestantsekerk.nl/evenementen/online-bijeenkomsten-dorpskerkenbeweging/
DTEND:20260618T193000Z
DTSTAMP:20260425T133547Z
UID:69eca713d2321
END:VEVENT
END:VCALENDAR
