  BEGIN:VCALENDAR
VERSION:2.0
PRODID:-//hacksw/handcal//NONSGML v1.0//EN
CALSCALE:GREGORIAN
BEGIN:VEVENT
DESCRIPTION:
DTSTART:20260512T180000Z
SUMMARY:Webinar proeverij doorstroomrichtingen pionieren
LOCATION:Online
URL;VALUE=URI:https://protestantsekerk.nl/evenementen/webinar-proeverij-doorstroomrichtingen-pionieren/
DTEND:20260512T193000Z
DTSTAMP:20260425T133443Z
UID:69eca6d38c498
END:VEVENT
END:VCALENDAR
