  BEGIN:VCALENDAR
VERSION:2.0
PRODID:-//hacksw/handcal//NONSGML v1.0//EN
CALSCALE:GREGORIAN
BEGIN:VEVENT
DESCRIPTION:Kerk in Actie start de actie &#039;Samen tegen armoede&#039; in Nederland. Gemeenten kunnen meedoen met de voedseldozenactie voor de Voedselbank en/of inleverpunt worden voor de buurt. 
DTSTART:20230329T180000Z
SUMMARY:Webinar over actie &#039;Samen tegen armoede&#039;
LOCATION:Online
URL;VALUE=URI:https://protestantsekerk.nl/evenementen/webinar-samen-tegen-armoede/
DTEND:20230329T190000Z
DTSTAMP:20260421T141726Z
UID:69e76ad63a929
END:VEVENT
END:VCALENDAR
